BEGIN:VCALENDAR
VERSION:2.0
PRODID:icalendar-ruby
CALSCALE:GREGORIAN
METHOD:PUBLISH
BEGIN:VEVENT
DTSTAMP:20260423T121516Z
UID:13-228075@davisstreetbaptist.org
DTSTART:20260426T153000Z
DTEND:20260426T163000Z
CLASS:PUBLIC
CREATED:20260412T013840
DESCRIPTION:
LAST-MODIFIED:20260412T013840
LOCATION:
SUMMARY:100th Anniversary of Davis Street Baptist Church
URL;VALUE=URI:https://www.davisstreetbaptist.org/events/100th-anniversary-o
 f-davis-street-baptist-church/2026-04-26
ATTACH;FILENAME=image0.png;FMTTYPE=image/png:https://dq5pwpg1q8ru0.cloudfro
 nt.net/2026/04/04/03/51/12/5930ab71-d296-4333-b964-9dfa2d6f4b81/image0.png
END:VEVENT
END:VCALENDAR
